BEGIN:VCALENDAR
VERSION:2.0
PRODID:-//Kentucky Wesleyan College - ECPv6.15.18//NONSGML v1.0//EN
CALSCALE:GREGORIAN
METHOD:PUBLISH
X-ORIGINAL-URL:https://kwc.edu
X-WR-CALDESC:Events for Kentucky Wesleyan College
REFRESH-INTERVAL;VALUE=DURATION:PT1H
X-Robots-Tag:noindex
X-PUBLISHED-TTL:PT1H
BEGIN:VTIMEZONE
TZID:America/Chicago
BEGIN:DAYLIGHT
TZOFFSETFROM:-0600
TZOFFSETTO:-0500
TZNAME:CDT
DTSTART:20250309T080000
END:DAYLIGHT
BEGIN:STANDARD
TZOFFSETFROM:-0500
TZOFFSETTO:-0600
TZNAME:CST
DTSTART:20251102T070000
END:STANDARD
BEGIN:DAYLIGHT
TZOFFSETFROM:-0600
TZOFFSETTO:-0500
TZNAME:CDT
DTSTART:20260308T080000
END:DAYLIGHT
BEGIN:STANDARD
TZOFFSETFROM:-0500
TZOFFSETTO:-0600
TZNAME:CST
DTSTART:20261101T070000
END:STANDARD
BEGIN:DAYLIGHT
TZOFFSETFROM:-0600
TZOFFSETTO:-0500
TZNAME:CDT
DTSTART:20270314T080000
END:DAYLIGHT
BEGIN:STANDARD
TZOFFSETFROM:-0500
TZOFFSETTO:-0600
TZNAME:CST
DTSTART:20271107T070000
END:STANDARD
END:VTIMEZONE
BEGIN:VEVENT
DTSTART;TZID=America/Chicago:20260514T180000
DTEND;TZID=America/Chicago:20260514T200000
DTSTAMP:20260424T083939
CREATED:20260423T152927Z
LAST-MODIFIED:20260423T152927Z
UID:10000720-1778781600-1778788800@kwc.edu
SUMMARY:2026 KWC in Madisonville\, KY
DESCRIPTION:
URL:https://kwc.edu/event/2026-kwc-in-madisonville-ky/
LOCATION:The Crowded House\, 26 W. Center Street\, Madisonville\, 42431\, United States
CATEGORIES:Advancement,Alumni
END:VEVENT
BEGIN:VEVENT
DTSTART;TZID=America/Chicago:20260620T160000
DTEND;TZID=America/Chicago:20260620T223000
DTSTAMP:20260424T083939
CREATED:20260423T145406Z
LAST-MODIFIED:20260423T151947Z
UID:10000719-1781971200-1781994600@kwc.edu
SUMMARY:2026 Downs after Dark
DESCRIPTION:
URL:https://kwc.edu/event/2026-downs-after-dark/
LOCATION:Churchill Downs\, 700 Central Avenue\, Louisville\, 40208\, United States
CATEGORIES:Advancement,Alumni
END:VEVENT
BEGIN:VEVENT
DTSTART;VALUE=DATE:20260726
DTEND;VALUE=DATE:20260727
DTSTAMP:20260424T083939
CREATED:20260423T144137Z
LAST-MODIFIED:20260423T144456Z
UID:10000718-1785024000-1785110399@kwc.edu
SUMMARY:2026 Wesleyan Day at Holiday World
DESCRIPTION: 
URL:https://kwc.edu/event/2026-wesleyan-day-at-holiday-world/
CATEGORIES:Advancement,Alumni
END:VEVENT
BEGIN:VEVENT
DTSTART;TZID=America/Chicago:20260801T174000
DTEND;TZID=America/Chicago:20260801T210000
DTSTAMP:20260424T083939
CREATED:20260423T153610Z
LAST-MODIFIED:20260423T153948Z
UID:10000721-1785606000-1785618000@kwc.edu
SUMMARY:2026 Wesleyan Night with the Cincinnati Reds
DESCRIPTION:
URL:https://kwc.edu/event/2026-wesleyan-night-with-the-cincinnati-reds/
LOCATION:Great American Ball Park\, 100 Joe Nuxhall Way\, Cincinnati\, OH\, 45202\, United States
CATEGORIES:Advancement,Alumni
END:VEVENT
BEGIN:VEVENT
DTSTART;TZID=America/Chicago:20260912T180000
DTEND;TZID=America/Chicago:20260912T210000
DTSTAMP:20260424T083939
CREATED:20260423T160330Z
LAST-MODIFIED:20260423T160330Z
UID:10000722-1789236000-1789246800@kwc.edu
SUMMARY:2026 KWC Night with Lou City FC
DESCRIPTION:
URL:https://kwc.edu/event/2026-kwc-night-with-lou-city-fc/
LOCATION:Lynn Family Stadium\, 350 Adams Street\, Louisville\, 40206\, United States
CATEGORIES:Advancement,Alumni
END:VEVENT
BEGIN:VEVENT
DTSTART;VALUE=DATE:20261008
DTEND;VALUE=DATE:20261011
DTSTAMP:20260424T083939
CREATED:20260423T160845Z
LAST-MODIFIED:20260423T161157Z
UID:10000723-1791417600-1791676799@kwc.edu
SUMMARY:2026 KWC Homecoming & Family Weekend
DESCRIPTION:
URL:https://kwc.edu/event/2026-kwc-homecoming-family-weekend/
LOCATION:Kentucky Wesleyan College\, 3000 Frederica St.\, Owensboro\, 42301\, United States
CATEGORIES:Advancement,Alumni
END:VEVENT
END:VCALENDAR