BEGIN:VCALENDAR
VERSION:2.0
PRODID:-//Kentucky Wesleyan College - ECPv6.15.18//NONSGML v1.0//EN
CALSCALE:GREGORIAN
METHOD:PUBLISH
X-WR-CALNAME:Kentucky Wesleyan College
X-ORIGINAL-URL:https://kwc.edu
X-WR-CALDESC:Events for Kentucky Wesleyan College
REFRESH-INTERVAL;VALUE=DURATION:PT1H
X-Robots-Tag:noindex
X-PUBLISHED-TTL:PT1H
BEGIN:VTIMEZONE
TZID:America/Chicago
BEGIN:DAYLIGHT
TZOFFSETFROM:-0600
TZOFFSETTO:-0500
TZNAME:CDT
DTSTART:20240310T080000
END:DAYLIGHT
BEGIN:STANDARD
TZOFFSETFROM:-0500
TZOFFSETTO:-0600
TZNAME:CST
DTSTART:20241103T070000
END:STANDARD
BEGIN:DAYLIGHT
TZOFFSETFROM:-0600
TZOFFSETTO:-0500
TZNAME:CDT
DTSTART:20250309T080000
END:DAYLIGHT
BEGIN:STANDARD
TZOFFSETFROM:-0500
TZOFFSETTO:-0600
TZNAME:CST
DTSTART:20251102T070000
END:STANDARD
BEGIN:DAYLIGHT
TZOFFSETFROM:-0600
TZOFFSETTO:-0500
TZNAME:CDT
DTSTART:20260308T080000
END:DAYLIGHT
BEGIN:STANDARD
TZOFFSETFROM:-0500
TZOFFSETTO:-0600
TZNAME:CST
DTSTART:20261101T070000
END:STANDARD
END:VTIMEZONE
BEGIN:VEVENT
DTSTART;TZID=America/Chicago:20251025T143000
DTEND;TZID=America/Chicago:20251025T173000
DTSTAMP:20260421T020211
CREATED:20250925T002152Z
LAST-MODIFIED:20250925T002152Z
UID:10000158-1761402600-1761413400@kwc.edu
SUMMARY:Women's Soccer vs Northwood
DESCRIPTION:Women’s Soccer vs Northwood Owensboro\, KY
URL:https://kwc.edu/event/womens-soccer-vs-northwood/
CATEGORIES:Women's Soccer
END:VEVENT
BEGIN:VEVENT
DTSTART;TZID=America/Chicago:20251025T120000
DTEND;TZID=America/Chicago:20251025T150000
DTSTAMP:20260421T020211
CREATED:20250925T002152Z
LAST-MODIFIED:20250925T002152Z
UID:10000156-1761393600-1761404400@kwc.edu
SUMMARY:Volleyball at Malone
DESCRIPTION:Volleyball at Malone Canton\, OH
URL:https://kwc.edu/event/volleyball-at-malone/
CATEGORIES:Volleyball
END:VEVENT
BEGIN:VEVENT
DTSTART;TZID=America/Chicago:20251025T120000
DTEND;TZID=America/Chicago:20251025T150000
DTSTAMP:20260421T020211
CREATED:20250925T002152Z
LAST-MODIFIED:20250925T002152Z
UID:10000157-1761393600-1761404400@kwc.edu
SUMMARY:Football vs Northwood
DESCRIPTION:Football vs Northwood Owensboro\, KY
URL:https://kwc.edu/event/football-vs-northwood/
CATEGORIES:Football
END:VEVENT
BEGIN:VEVENT
DTSTART;TZID=America/Chicago:20251024T170000
DTEND;TZID=America/Chicago:20251024T200000
DTSTAMP:20260421T020211
CREATED:20250925T001952Z
LAST-MODIFIED:20250925T001952Z
UID:10000154-1761325200-1761336000@kwc.edu
SUMMARY:Volleyball at Walsh
DESCRIPTION:Volleyball at Walsh North Canton\, OH
URL:https://kwc.edu/event/volleyball-at-walsh/
CATEGORIES:Volleyball
END:VEVENT
BEGIN:VEVENT
DTSTART;TZID=America/Chicago:20251023T193000
DTEND;TZID=America/Chicago:20251023T223000
DTSTAMP:20260421T020211
CREATED:20250925T001952Z
LAST-MODIFIED:20250925T001952Z
UID:10000153-1761247800-1761258600@kwc.edu
SUMMARY:Men's Soccer vs Findlay
DESCRIPTION:Men’s Soccer vs Findlay Owensboro\, KY
URL:https://kwc.edu/event/mens-soccer-vs-findlay/
CATEGORIES:Men's Soccer
END:VEVENT
BEGIN:VEVENT
DTSTART;TZID=America/Chicago:20251023T170000
DTEND;TZID=America/Chicago:20251023T200000
DTSTAMP:20260421T020211
CREATED:20250925T001951Z
LAST-MODIFIED:20250925T001951Z
UID:10000152-1761238800-1761249600@kwc.edu
SUMMARY:Women's Soccer vs Findlay
DESCRIPTION:Women’s Soccer vs Findlay Owensboro\, KY
URL:https://kwc.edu/event/womens-soccer-vs-findlay/
CATEGORIES:Women's Soccer
END:VEVENT
BEGIN:VEVENT
DTSTART;TZID=America/Chicago:20251022T183000
DTEND;TZID=America/Chicago:20251022T213000
DTSTAMP:20260421T020211
CREATED:20251105T161753Z
LAST-MODIFIED:20251105T161753Z
UID:10000237-1761157800-1761168600@kwc.edu
SUMMARY:Men's Basketball at Western Kentucky (EXH)
DESCRIPTION:Men’s Basketball at Western Kentucky (EXH) Bowling Green\, KY
URL:https://kwc.edu/event/mens-basketball-at-western-kentucky-exh/
CATEGORIES:Athletics,Men's Basketball
END:VEVENT
END:VCALENDAR