BEGIN:VCALENDAR
VERSION:2.0
PRODID:-//Kentucky Wesleyan College - ECPv6.15.18//NONSGML v1.0//EN
CALSCALE:GREGORIAN
METHOD:PUBLISH
X-WR-CALNAME:Kentucky Wesleyan College
X-ORIGINAL-URL:https://kwc.edu
X-WR-CALDESC:Events for Kentucky Wesleyan College
REFRESH-INTERVAL;VALUE=DURATION:PT1H
X-Robots-Tag:noindex
X-PUBLISHED-TTL:PT1H
BEGIN:VTIMEZONE
TZID:America/Chicago
BEGIN:DAYLIGHT
TZOFFSETFROM:-0600
TZOFFSETTO:-0500
TZNAME:CDT
DTSTART:20240310T080000
END:DAYLIGHT
BEGIN:STANDARD
TZOFFSETFROM:-0500
TZOFFSETTO:-0600
TZNAME:CST
DTSTART:20241103T070000
END:STANDARD
BEGIN:DAYLIGHT
TZOFFSETFROM:-0600
TZOFFSETTO:-0500
TZNAME:CDT
DTSTART:20250309T080000
END:DAYLIGHT
BEGIN:STANDARD
TZOFFSETFROM:-0500
TZOFFSETTO:-0600
TZNAME:CST
DTSTART:20251102T070000
END:STANDARD
BEGIN:DAYLIGHT
TZOFFSETFROM:-0600
TZOFFSETTO:-0500
TZNAME:CDT
DTSTART:20260308T080000
END:DAYLIGHT
BEGIN:STANDARD
TZOFFSETFROM:-0500
TZOFFSETTO:-0600
TZNAME:CST
DTSTART:20261101T070000
END:STANDARD
END:VTIMEZONE
BEGIN:VEVENT
DTSTART;TZID=America/Chicago:20251103T170000
DTEND;TZID=America/Chicago:20251103T180000
DTSTAMP:20260424T090823
CREATED:20251027T215238Z
LAST-MODIFIED:20251027T215238Z
UID:10000230-1762189200-1762192800@kwc.edu
SUMMARY:Stanley Reed Society Legislative Roundup and Preview
DESCRIPTION:The Stanley Reed Political Science and Pre-Law Society will host a 2025 Legislative Roundup and 2026 Legislative Preview\, a discussion of recent and upcoming state legislation\, with State Representative DJ Johnson and State Senator Gary Boswell on Nov. 3\, 2025\, at 5 p.m. in Rogers Hall at the Winchester Center. \nTopics will include: \n\nState land sale reform to streamline the process for repurposing vacant state property;\nLimits on property tax increases;\nThe Landowner Protection Bill;\nA proposal to adjust the creel limit for fishing on private property;\nThe Library Board Appointment Process Bill;\nAn Election Integrity Bill aimed at strengthening public confidence in Kentucky’s voting system.\n\nBoth lawmakers emphasize that these reforms seek to make Kentucky’s government more efficient\, transparent and responsive to taxpayers. \nThe event is open to the public. \nStanley Forman Reed (1884-1980)\, a 1902 graduate of Kentucky Wesleyan College\, was a noted attorney who served as United States Solicitor General from 1935-1938 and as an associate justice of the United States Supreme Court from 1938-1957. He was a native of Mason County\, Ky. 
URL:https://kwc.edu/event/stanley-reed-society-legislative-roundup-and-preview/
LOCATION:Winchester Center\, 3000 Frederica Street\, Owensboro\, KY\, 42301\, United States
CATEGORIES:Academics,Lectures and Forums
ATTACH;FMTTYPE=image/jpeg:https://kwc.edu/wp-content/uploads/Outdoor-Students-Front-Lawn-3542-Kentucky-Wesleyan-College.jpg
END:VEVENT
BEGIN:VEVENT
DTSTART;TZID=America/Chicago:20251028T100000
DTEND;TZID=America/Chicago:20251028T140000
DTSTAMP:20260424T090823
CREATED:20251016T173739Z
LAST-MODIFIED:20251023T211528Z
UID:10000224-1761645600-1761660000@kwc.edu
SUMMARY:Fall Career\, Internship and Graduate School Fair
DESCRIPTION:The Office of Career Engagement is excited to host our Fall Career\, Internship & Graduate School Fair on Tuesday\, October 28!\nConnect face-to-face with employers\, recruiters\, and graduate school representatives offering real opportunities for internships\, full-time positions\, and advanced study. Bring your resume\, dress professionally\, and get ready to make valuable connections that move your career forward. \nEmployers are invited to meet with Kentucky Wesleyan students and publicize your job\, internship and graduate school opportunities! Booth registration is $100 for businesses\, and $50 for schools and nonprofits\, payable by credit card in advance. Additional registrants from your organization may be added for $20 each. We will provide a box lunch for all registered. \nPlease arrive for setup between 8:45 and 9:45 a.m. and we ask that you plan to stay for the duration of the event. We will provide one 6-foot table and 2 chairs per booth unless otherwise requested. \nIf you have questions\, please contact Laura Rudolph\, Director of Career Engagement\, at laura.rudolph@kwc.edu. \n  \n\nEmployer/Graduate School Registration Form\n \n\n                \n                        \n                             \n							"*" indicates required fields \n                        \n                        Name of OrganizationName(s) of Representative*First NameLast Name    Add   RemoveEmail*\n                            \n                        Billing Address    \n                    \n                         \n                                        \n                                        Street Address\n                                    \n                                        \n                                        Address Line 2\n                                    \n                                    \n                                    City\n                                 \n                                        \n                                        State / Province / Region\n                                      \n                                    \n                                    ZIP / Postal Code\n                                \n                    \n                Phone*Need electrical service?*Outlets for computers\, displays\, etc.\n								\n								Yes\n							\n								\n								No\n							Registration payment method:*\n			\n					\n					Pay now with card BUSINESSES\n			\n			\n					\n					Pay now with card NON PROFIT OR SCHOOL\n			\n			\n					\n					Mail a check\n			Career Fair Registration Fee - Businesses\n					\n					\n						Price:\n						\n					\n					\n				Career Fair Registration Fee - Non profits and Schools\n					\n					\n						Price:\n						\n					\n					\n				Additional people attending? $25/person\n			\n					\n					Yes\n			\n			\n					\n					No\n			Additional Registration fee Quantity\n					\n					\n						Price:\n						$25.00\n					\n					\n					 Quantity \n				Total\n							\n						Credit Card\n                                    American ExpressDiscoverMasterCardVisaSupported Credit Cards: American Express\, Discover\, MasterCard\, Visa\n                                    \n                                    Card Number\n                                 \n                                            \n                                            Expiration Date\n                                                \n                                                   \n                                                       Month\n                                                       \n                                                           Month010203040506070809101112\n                                                       \n                                                   \n                                                   \n                                                       Year\n                                                       \n                                                           Year20262027202820292030203120322033203420352036203720382039204020412042204320442045\n                                                       \n                                                   \n                                                \n                                            \n                                                \n                                                 \n                                                Security Code\n                                             \n                                        \n                                            \n                                            Cardholder Name\n                                         \n          \n            \n            \n            \n            \n            \n            \n            \n            \n            \n            \n            \n            \n            \n        \n                        \n                        \n \nStudent RSVP Form\n \n                \n                        \n                            Students are not required to register to attend\, but this helps track number of students who plan to come. \n							"*" indicates required fields \n                        \n                        Name*\n                            \n                            \n                                                    \n                                                    First\n                                                \n                            \n                            \n                                                    \n                                                    Last\n                                                \n                            \n                        Class Year*Major*I am interested in*\n			\n					\n					Part time employment or Internship\n			\n			\n					\n					Full time employment\n			\n			\n					\n					Networking with employers\n			\n			\n					\n					Speaking to graduate school representatives\n			\n			\n					\n					A little bit of everything!\n			What time do you plan to come by the Career & Grad School Fair?*\n								\n								10-11 a.m.\n							\n								\n								11 a.m. - 12 p.m.\n							\n								\n								12-1 p.m.\n							\n								\n								1-2 p.m.\n							How did I learn about the Career & Grad School Fair?*\n			\n					\n					Professor\n			\n			\n					\n					Email\n			\n			\n					\n					Text\n			\n			\n					\n					Friend\n			\n			\n					\n					Social media\n			Email*
URL:https://kwc.edu/event/fall-career-internship-and-graduate-school-fair/
LOCATION:Winchester Center\, 3000 Frederica Street\, Owensboro\, KY\, 42301\, United States
CATEGORIES:Career Engagement
ORGANIZER;CN="Career Engagement":MAILTO:laura.rudolph@kwc.edu
END:VEVENT
END:VCALENDAR